BEGIN:VCALENDAR
VERSION:2.0
PRODID:-//Warrandyte Junior Football Club - ECPv6.10.2//NONSGML v1.0//EN
CALSCALE:GREGORIAN
METHOD:PUBLISH
X-ORIGINAL-URL:https://www.warrandytejfc.org
X-WR-CALDESC:Events for Warrandyte Junior Football Club
REFRESH-INTERVAL;VALUE=DURATION:PT1H
X-Robots-Tag:noindex
X-PUBLISHED-TTL:PT1H
BEGIN:VTIMEZONE
TZID:Australia/Melbourne
BEGIN:STANDARD
TZOFFSETFROM:+1100
TZOFFSETTO:+1000
TZNAME:AEST
DTSTART:20250405T160000
END:STANDARD
BEGIN:DAYLIGHT
TZOFFSETFROM:+1000
TZOFFSETTO:+1100
TZNAME:AEDT
DTSTART:20251004T160000
END:DAYLIGHT
END:VTIMEZONE
BEGIN:VEVENT
DTSTART;VALUE=DATE:20250622
DTEND;VALUE=DATE:20250623
DTSTAMP:20260425T021643
CREATED:20250610T190613Z
LAST-MODIFIED:20250610T190613Z
UID:8763-1750550400-1750636799@www.warrandytejfc.org
SUMMARY:Blood's day and Family Night
DESCRIPTION:
URL:https://www.warrandytejfc.org/event/bloods-day-and-family-night/
LOCATION:Warrandyte Sporting Club\, 8 Taroona Avenue\, Warrandyte\, Victoria\, 3113\, Australia
CATEGORIES:Family Night,Football
ORGANIZER;CN="Warrandyte Junior Football Club":MAILTO:secretary@warrandytejfc.org
END:VEVENT
BEGIN:VEVENT
DTSTART;TZID=Australia/Melbourne:20250427T170000
DTEND;TZID=Australia/Melbourne:20250427T203000
DTSTAMP:20260425T021643
CREATED:20250324T193956Z
LAST-MODIFIED:20250324T193956Z
UID:8431-1745773200-1745785800@www.warrandytejfc.org
SUMMARY:Family Night
DESCRIPTION:Club Captains will be announced\nHSP’s will be served up for dinner (Chips\, shredded cheese\, covered in slowed roasted beef cooked on-site with the addition of your favourite sauces.)
URL:https://www.warrandytejfc.org/event/family-night/
LOCATION:Football Clubrooms\, Taroona Ave\, North Warrandyte\, Victoria\, 3113\, Australia
CATEGORIES:Family Night
ORGANIZER;CN="WJFC":MAILTO:secretary@warrandytejfc.org
END:VEVENT
END:VCALENDAR