BEGIN:VCALENDAR
VERSION:2.0
PRODID:-//Warrandyte Junior Football Club - ECPv6.10.2//NONSGML v1.0//EN
CALSCALE:GREGORIAN
METHOD:PUBLISH
X-WR-CALNAME:Warrandyte Junior Football Club
X-ORIGINAL-URL:https://www.warrandytejfc.org
X-WR-CALDESC:Events for Warrandyte Junior Football Club
REFRESH-INTERVAL;VALUE=DURATION:PT1H
X-Robots-Tag:noindex
X-PUBLISHED-TTL:PT1H
BEGIN:VTIMEZONE
TZID:Australia/Melbourne
BEGIN:STANDARD
TZOFFSETFROM:+1100
TZOFFSETTO:+1000
TZNAME:AEST
DTSTART:20250405T160000
END:STANDARD
BEGIN:DAYLIGHT
TZOFFSETFROM:+1000
TZOFFSETTO:+1100
TZNAME:AEDT
DTSTART:20251004T160000
END:DAYLIGHT
END:VTIMEZONE
BEGIN:VEVENT
DTSTART;TZID=Australia/Melbourne:20250813T183000
DTEND;TZID=Australia/Melbourne:20250813T193000
DTSTAMP:20260423T014818
CREATED:20250718T203504Z
LAST-MODIFIED:20250718T203504Z
UID:8815-1755109800-1755113400@www.warrandytejfc.org
SUMMARY:SALT - Stand your Ground - Peer Group Pressure and decision making
DESCRIPTION:
URL:https://www.warrandytejfc.org/event/salt-stand-your-ground-peer-group-pressure-and-decision-making/
LOCATION:Warrandyte Sporting Club\, 8 Taroona Avenue\, Warrandyte\, Victoria\, 3113\, Australia
CATEGORIES:In-service
END:VEVENT
BEGIN:VEVENT
DTSTART;TZID=Australia/Melbourne:20250730T180000
DTEND;TZID=Australia/Melbourne:20250730T220000
DTSTAMP:20260423T014818
CREATED:20250709T231245Z
LAST-MODIFIED:20250709T231245Z
UID:8781-1753898400-1753912800@www.warrandytejfc.org
SUMMARY:RSA Session
DESCRIPTION:Responsible Serving of Alcohol \nTo be delivered by Peter Rosenthal from Good Sports/Alcohol and Drug Foundation
URL:https://www.warrandytejfc.org/event/rsa-session/
LOCATION:Warrandyte Sporting Club\, 8 Taroona Avenue\, Warrandyte\, Victoria\, 3113\, Australia
CATEGORIES:In-service
ORGANIZER;CN="Secretary":MAILTO:secretary@warrandytejfc.org
END:VEVENT
END:VCALENDAR