BEGIN:VCALENDAR
VERSION:2.0
PRODID:-//Warrandyte Junior Football Club - ECPv6.10.2//NONSGML v1.0//EN
CALSCALE:GREGORIAN
METHOD:PUBLISH
X-ORIGINAL-URL:https://www.warrandytejfc.org
X-WR-CALDESC:Events for Warrandyte Junior Football Club
REFRESH-INTERVAL;VALUE=DURATION:PT1H
X-Robots-Tag:noindex
X-PUBLISHED-TTL:PT1H
BEGIN:VTIMEZONE
TZID:Australia/Melbourne
BEGIN:STANDARD
TZOFFSETFROM:+1100
TZOFFSETTO:+1000
TZNAME:AEST
DTSTART:20250405T160000
END:STANDARD
BEGIN:DAYLIGHT
TZOFFSETFROM:+1000
TZOFFSETTO:+1100
TZNAME:AEDT
DTSTART:20251004T160000
END:DAYLIGHT
END:VTIMEZONE
BEGIN:VEVENT
DTSTART;TZID=Australia/Melbourne:20250913T183000
DTEND;TZID=Australia/Melbourne:20250913T230000
DTSTAMP:20260423T151805
CREATED:20250710T200627Z
LAST-MODIFIED:20250710T200627Z
UID:8791-1757788200-1757804400@www.warrandytejfc.org
SUMMARY:Youth Presentation Dinner
DESCRIPTION:More Details to come
URL:https://www.warrandytejfc.org/event/youth-presentation-dinner-2/
LOCATION:Warrandyte Sporting Club\, 8 Taroona Avenue\, Warrandyte\, Victoria\, 3113\, Australia
CATEGORIES:Social function
END:VEVENT
BEGIN:VEVENT
DTSTART;TZID=Australia/Melbourne:20250816T180000
DTEND;TZID=Australia/Melbourne:20250816T230000
DTSTAMP:20260423T151805
CREATED:20250710T195848Z
LAST-MODIFIED:20250718T202114Z
UID:8787-1755367200-1755385200@www.warrandytejfc.org
SUMMARY:Adults Social Night - Woodstock Theme
DESCRIPTION:
URL:https://www.warrandytejfc.org/event/adults-social-night-woodstock-theme/
LOCATION:Warrandyte Sporting Club\, 8 Taroona Avenue\, Warrandyte\, Victoria\, 3113\, Australia
CATEGORIES:Social function
END:VEVENT
END:VCALENDAR