BEGIN:VCALENDAR
VERSION:2.0
PRODID:-//Warrandyte Junior Football Club - ECPv6.10.2//NONSGML v1.0//EN
CALSCALE:GREGORIAN
METHOD:PUBLISH
X-WR-CALNAME:Warrandyte Junior Football Club
X-ORIGINAL-URL:https://www.warrandytejfc.org
X-WR-CALDESC:Events for Warrandyte Junior Football Club
REFRESH-INTERVAL;VALUE=DURATION:PT1H
X-Robots-Tag:noindex
X-PUBLISHED-TTL:PT1H
BEGIN:VTIMEZONE
TZID:Australia/Melbourne
BEGIN:STANDARD
TZOFFSETFROM:+1100
TZOFFSETTO:+1000
TZNAME:AEST
DTSTART:20250405T160000
END:STANDARD
BEGIN:DAYLIGHT
TZOFFSETFROM:+1000
TZOFFSETTO:+1100
TZNAME:AEDT
DTSTART:20251004T160000
END:DAYLIGHT
END:VTIMEZONE
BEGIN:VEVENT
DTSTART;TZID=Australia/Melbourne:20250628T120000
DTEND;TZID=Australia/Melbourne:20250628T170000
DTSTAMP:20260425T021353
CREATED:20250601T172751Z
LAST-MODIFIED:20250609T175601Z
UID:8736-1751112000-1751130000@www.warrandytejfc.org
SUMMARY:Ladies Day Lunch
DESCRIPTION:
URL:https://www.warrandytejfc.org/event/ladies-day/
LOCATION:Warrandyte Sporting Club\, 8 Taroona Avenue\, Warrandyte\, Victoria\, 3113\, Australia
CATEGORIES:Special Events
ORGANIZER;CN="Warrandyte Junior Football Club":MAILTO:secretary@warrandytejfc.org
END:VEVENT
BEGIN:VEVENT
DTSTART;TZID=Australia/Melbourne:20250406T173000
DTEND;TZID=Australia/Melbourne:20250406T193000
DTSTAMP:20260425T021353
CREATED:20250324T195021Z
LAST-MODIFIED:20250330T155813Z
UID:8439-1743960600-1743967800@www.warrandytejfc.org
SUMMARY:Youth Teams - Post Round 1\, Catch Up
DESCRIPTION:Pizza and chips to be served with drinks.
URL:https://www.warrandytejfc.org/event/mental-health-check-in/
LOCATION:Warrandyte Sporting Club\, 8 Taroona Avenue\, Warrandyte\, Victoria\, 3113\, Australia
CATEGORIES:Special Events
ORGANIZER;CN="WJFC":MAILTO:secretary@warrandytejfc.org
END:VEVENT
END:VCALENDAR