BEGIN:VCALENDAR
VERSION:2.0
PRODID:-//Warrandyte Junior Football Club - ECPv6.10.2//NONSGML v1.0//EN
CALSCALE:GREGORIAN
METHOD:PUBLISH
X-ORIGINAL-URL:https://www.warrandytejfc.org
X-WR-CALDESC:Events for Warrandyte Junior Football Club
REFRESH-INTERVAL;VALUE=DURATION:PT1H
X-Robots-Tag:noindex
X-PUBLISHED-TTL:PT1H
BEGIN:VTIMEZONE
TZID:Australia/Melbourne
BEGIN:STANDARD
TZOFFSETFROM:+1100
TZOFFSETTO:+1000
TZNAME:AEST
DTSTART:20250405T160000
END:STANDARD
BEGIN:DAYLIGHT
TZOFFSETFROM:+1000
TZOFFSETTO:+1100
TZNAME:AEDT
DTSTART:20251004T160000
END:DAYLIGHT
END:VTIMEZONE
BEGIN:VEVENT
DTSTART;TZID=Australia/Melbourne:20250423T193000
DTEND;TZID=Australia/Melbourne:20250423T193000
DTSTAMP:20260424T055130
CREATED:20250410T231506Z
LAST-MODIFIED:20250410T232524Z
UID:8656-1745436600-1745436600@www.warrandytejfc.org
SUMMARY:Club Captains meeting
DESCRIPTION:This meeting is to be held in the smaller meeting room.
URL:https://www.warrandytejfc.org/event/planning-meeting-2/
LOCATION:Warrandyte Sporting Club\, 8 Taroona Avenue\, Warrandyte\, Victoria\, 3113\, Australia
CATEGORIES:Committee meeting's
ORGANIZER;CN="President":MAILTO:president@warrandytejfc.org
END:VEVENT
BEGIN:VEVENT
DTSTART;TZID=Australia/Melbourne:20250414T193000
DTEND;TZID=Australia/Melbourne:20250414T203000
DTSTAMP:20260424T055130
CREATED:20250410T231240Z
LAST-MODIFIED:20250410T231240Z
UID:8653-1744659000-1744662600@www.warrandytejfc.org
SUMMARY:Planning Meeting
DESCRIPTION:
URL:https://www.warrandytejfc.org/event/planning-meeting/
LOCATION:Warrandyte Sporting Club\, 8 Taroona Avenue\, Warrandyte\, Victoria\, 3113\, Australia
CATEGORIES:Committee meeting's
ORGANIZER;CN="President":MAILTO:president@warrandytejfc.org
END:VEVENT
BEGIN:VEVENT
DTSTART;TZID=Australia/Melbourne:20250406T173000
DTEND;TZID=Australia/Melbourne:20250406T193000
DTSTAMP:20260424T055130
CREATED:20250324T195021Z
LAST-MODIFIED:20250330T155813Z
UID:8439-1743960600-1743967800@www.warrandytejfc.org
SUMMARY:Youth Teams - Post Round 1\, Catch Up
DESCRIPTION:Pizza and chips to be served with drinks.
URL:https://www.warrandytejfc.org/event/mental-health-check-in/
LOCATION:Warrandyte Sporting Club\, 8 Taroona Avenue\, Warrandyte\, Victoria\, 3113\, Australia
CATEGORIES:Special Events
ORGANIZER;CN="WJFC":MAILTO:secretary@warrandytejfc.org
END:VEVENT
BEGIN:VEVENT
DTSTART;TZID=Australia/Melbourne:20250328T170000
DTEND;TZID=Australia/Melbourne:20250328T210000
DTSTAMP:20260424T055130
CREATED:20250324T193119Z
LAST-MODIFIED:20250324T193119Z
UID:8427-1743181200-1743195600@www.warrandytejfc.org
SUMMARY:Warrandyte Festival BBQ
DESCRIPTION:
URL:https://www.warrandytejfc.org/event/warrandyte-festival-bbq/
LOCATION:Stiggants Reserve Warrandyte\, Yarra Street\, Warrandyte\, Victoria\, 3113\, Australia
CATEGORIES:BBQ
ORGANIZER;CN="Secretary":MAILTO:secretary@warrandytejfc.org
END:VEVENT
END:VCALENDAR